BEGIN:VCALENDAR
VERSION:2.0
PRODID:-//Empire Ranch Golf Course - ECPv6.15.18//NONSGML v1.0//EN
CALSCALE:GREGORIAN
METHOD:PUBLISH
X-WR-CALNAME:Empire Ranch Golf Course
X-ORIGINAL-URL:https://www.empireranchgolf.com
X-WR-CALDESC:Events for Empire Ranch Golf Course
REFRESH-INTERVAL;VALUE=DURATION:PT1H
X-Robots-Tag:noindex
X-PUBLISHED-TTL:PT1H
BEGIN:VTIMEZONE
TZID:America/Los_Angeles
BEGIN:DAYLIGHT
TZOFFSETFROM:-0800
TZOFFSETTO:-0700
TZNAME:PDT
DTSTART:20230312T100000
END:DAYLIGHT
BEGIN:STANDARD
TZOFFSETFROM:-0700
TZOFFSETTO:-0800
TZNAME:PST
DTSTART:20231105T090000
END:STANDARD
BEGIN:DAYLIGHT
TZOFFSETFROM:-0800
TZOFFSETTO:-0700
TZNAME:PDT
DTSTART:20240310T100000
END:DAYLIGHT
BEGIN:STANDARD
TZOFFSETFROM:-0700
TZOFFSETTO:-0800
TZNAME:PST
DTSTART:20241103T090000
END:STANDARD
BEGIN:DAYLIGHT
TZOFFSETFROM:-0800
TZOFFSETTO:-0700
TZNAME:PDT
DTSTART:20250309T100000
END:DAYLIGHT
BEGIN:STANDARD
TZOFFSETFROM:-0700
TZOFFSETTO:-0800
TZNAME:PST
DTSTART:20251102T090000
END:STANDARD
END:VTIMEZONE
BEGIN:VEVENT
DTSTART;VALUE=DATE:20240915
DTEND;VALUE=DATE:20240916
DTSTAMP:20260422T030146
CREATED:20240524T142355Z
LAST-MODIFIED:20240610T191923Z
UID:10000022-1726358400-1726444799@www.empireranchgolf.com
SUMMARY:Sunday 9 & Dine
DESCRIPTION:
URL:https://www.empireranchgolf.com/event/sunday-9-dine/2024-09-15/
END:VEVENT
BEGIN:VEVENT
DTSTART;VALUE=DATE:20240922
DTEND;VALUE=DATE:20240923
DTSTAMP:20260422T030146
CREATED:20240524T142355Z
LAST-MODIFIED:20240610T191923Z
UID:10000023-1726963200-1727049599@www.empireranchgolf.com
SUMMARY:Sunday 9 & Dine
DESCRIPTION:
URL:https://www.empireranchgolf.com/event/sunday-9-dine/2024-09-22/
END:VEVENT
BEGIN:VEVENT
DTSTART;VALUE=DATE:20240929
DTEND;VALUE=DATE:20240930
DTSTAMP:20260422T030146
CREATED:20240524T142355Z
LAST-MODIFIED:20240610T191923Z
UID:10000024-1727568000-1727654399@www.empireranchgolf.com
SUMMARY:Sunday 9 & Dine
DESCRIPTION:
URL:https://www.empireranchgolf.com/event/sunday-9-dine/2024-09-29/
END:VEVENT
BEGIN:VEVENT
DTSTART;VALUE=DATE:20241019
DTEND;VALUE=DATE:20241021
DTSTAMP:20260422T030146
CREATED:20240524T142708Z
LAST-MODIFIED:20240524T142708Z
UID:10000034-1729296000-1729468799@www.empireranchgolf.com
SUMMARY:Glow Ball
DESCRIPTION:
URL:https://www.empireranchgolf.com/event/glow-ball/
END:VEVENT
END:VCALENDAR