BEGIN:VCALENDAR
VERSION:2.0
PRODID:-//Empire Ranch Golf Course - ECPv6.15.18//NONSGML v1.0//EN
CALSCALE:GREGORIAN
METHOD:PUBLISH
X-WR-CALNAME:Empire Ranch Golf Course
X-ORIGINAL-URL:https://www.empireranchgolf.com
X-WR-CALDESC:Events for Empire Ranch Golf Course
REFRESH-INTERVAL;VALUE=DURATION:PT1H
X-Robots-Tag:noindex
X-PUBLISHED-TTL:PT1H
BEGIN:VTIMEZONE
TZID:America/Los_Angeles
BEGIN:DAYLIGHT
TZOFFSETFROM:-0800
TZOFFSETTO:-0700
TZNAME:PDT
DTSTART:20230312T100000
END:DAYLIGHT
BEGIN:STANDARD
TZOFFSETFROM:-0700
TZOFFSETTO:-0800
TZNAME:PST
DTSTART:20231105T090000
END:STANDARD
BEGIN:DAYLIGHT
TZOFFSETFROM:-0800
TZOFFSETTO:-0700
TZNAME:PDT
DTSTART:20240310T100000
END:DAYLIGHT
BEGIN:STANDARD
TZOFFSETFROM:-0700
TZOFFSETTO:-0800
TZNAME:PST
DTSTART:20241103T090000
END:STANDARD
BEGIN:DAYLIGHT
TZOFFSETFROM:-0800
TZOFFSETTO:-0700
TZNAME:PDT
DTSTART:20250309T100000
END:DAYLIGHT
BEGIN:STANDARD
TZOFFSETFROM:-0700
TZOFFSETTO:-0800
TZNAME:PST
DTSTART:20251102T090000
END:STANDARD
END:VTIMEZONE
BEGIN:VEVENT
DTSTART;VALUE=DATE:20240703
DTEND;VALUE=DATE:20240704
DTSTAMP:20260424T075015
CREATED:20240524T142536Z
LAST-MODIFIED:20240524T142536Z
UID:10000028-1719964800-1720051199@www.empireranchgolf.com
SUMMARY:First Tee Northern Nevada Kids Summer Golf Program
DESCRIPTION:
URL:https://www.empireranchgolf.com/event/first-tee-northern-nevada-kids-summer-golf-program/2024-07-03/
END:VEVENT
BEGIN:VEVENT
DTSTART;VALUE=DATE:20240707
DTEND;VALUE=DATE:20240708
DTSTAMP:20260424T075015
CREATED:20240524T142355Z
LAST-MODIFIED:20240610T191923Z
UID:10000012-1720310400-1720396799@www.empireranchgolf.com
SUMMARY:Sunday 9 & Dine
DESCRIPTION:
URL:https://www.empireranchgolf.com/event/sunday-9-dine/2024-07-07/
END:VEVENT
BEGIN:VEVENT
DTSTART;VALUE=DATE:20240710
DTEND;VALUE=DATE:20240711
DTSTAMP:20260424T075015
CREATED:20240524T142536Z
LAST-MODIFIED:20240524T142536Z
UID:10000029-1720569600-1720655999@www.empireranchgolf.com
SUMMARY:First Tee Northern Nevada Kids Summer Golf Program
DESCRIPTION:
URL:https://www.empireranchgolf.com/event/first-tee-northern-nevada-kids-summer-golf-program/2024-07-10/
END:VEVENT
BEGIN:VEVENT
DTSTART;VALUE=DATE:20240714
DTEND;VALUE=DATE:20240715
DTSTAMP:20260424T075015
CREATED:20240524T142355Z
LAST-MODIFIED:20240610T191923Z
UID:10000013-1720915200-1721001599@www.empireranchgolf.com
SUMMARY:Sunday 9 & Dine
DESCRIPTION:
URL:https://www.empireranchgolf.com/event/sunday-9-dine/2024-07-14/
END:VEVENT
BEGIN:VEVENT
DTSTART;VALUE=DATE:20240717
DTEND;VALUE=DATE:20240718
DTSTAMP:20260424T075015
CREATED:20240524T142536Z
LAST-MODIFIED:20240524T142536Z
UID:10000030-1721174400-1721260799@www.empireranchgolf.com
SUMMARY:First Tee Northern Nevada Kids Summer Golf Program
DESCRIPTION:
URL:https://www.empireranchgolf.com/event/first-tee-northern-nevada-kids-summer-golf-program/2024-07-17/
END:VEVENT
BEGIN:VEVENT
DTSTART;VALUE=DATE:20240721
DTEND;VALUE=DATE:20240722
DTSTAMP:20260424T075015
CREATED:20240524T142355Z
LAST-MODIFIED:20240610T191923Z
UID:10000014-1721520000-1721606399@www.empireranchgolf.com
SUMMARY:Sunday 9 & Dine
DESCRIPTION:
URL:https://www.empireranchgolf.com/event/sunday-9-dine/2024-07-21/
END:VEVENT
BEGIN:VEVENT
DTSTART;VALUE=DATE:20240724
DTEND;VALUE=DATE:20240725
DTSTAMP:20260424T075015
CREATED:20240524T142536Z
LAST-MODIFIED:20240524T142536Z
UID:10000031-1721779200-1721865599@www.empireranchgolf.com
SUMMARY:First Tee Northern Nevada Kids Summer Golf Program
DESCRIPTION:
URL:https://www.empireranchgolf.com/event/first-tee-northern-nevada-kids-summer-golf-program/2024-07-24/
END:VEVENT
BEGIN:VEVENT
DTSTART;VALUE=DATE:20240728
DTEND;VALUE=DATE:20240729
DTSTAMP:20260424T075015
CREATED:20240524T142355Z
LAST-MODIFIED:20240610T191923Z
UID:10000015-1722124800-1722211199@www.empireranchgolf.com
SUMMARY:Sunday 9 & Dine
DESCRIPTION:
URL:https://www.empireranchgolf.com/event/sunday-9-dine/2024-07-28/
END:VEVENT
BEGIN:VEVENT
DTSTART;VALUE=DATE:20240731
DTEND;VALUE=DATE:20240801
DTSTAMP:20260424T075015
CREATED:20240524T142536Z
LAST-MODIFIED:20240524T142536Z
UID:10000032-1722384000-1722470399@www.empireranchgolf.com
SUMMARY:First Tee Northern Nevada Kids Summer Golf Program
DESCRIPTION:
URL:https://www.empireranchgolf.com/event/first-tee-northern-nevada-kids-summer-golf-program/2024-07-31/
END:VEVENT
BEGIN:VEVENT
DTSTART;VALUE=DATE:20240801
DTEND;VALUE=DATE:20240802
DTSTAMP:20260424T075015
CREATED:20240524T142614Z
LAST-MODIFIED:20240524T142614Z
UID:10000033-1722470400-1722556799@www.empireranchgolf.com
SUMMARY:First Tee Northern Nevada Kids Summer Golf Program
DESCRIPTION:
URL:https://www.empireranchgolf.com/event/first-tee-northern-nevada-kids-summer-golf-program-2/
END:VEVENT
BEGIN:VEVENT
DTSTART;VALUE=DATE:20240804
DTEND;VALUE=DATE:20240805
DTSTAMP:20260424T075015
CREATED:20240524T142355Z
LAST-MODIFIED:20240610T191923Z
UID:10000016-1722729600-1722815999@www.empireranchgolf.com
SUMMARY:Sunday 9 & Dine
DESCRIPTION:
URL:https://www.empireranchgolf.com/event/sunday-9-dine/2024-08-04/
END:VEVENT
BEGIN:VEVENT
DTSTART;VALUE=DATE:20240811
DTEND;VALUE=DATE:20240812
DTSTAMP:20260424T075015
CREATED:20240524T142355Z
LAST-MODIFIED:20240610T191923Z
UID:10000017-1723334400-1723420799@www.empireranchgolf.com
SUMMARY:Sunday 9 & Dine
DESCRIPTION:
URL:https://www.empireranchgolf.com/event/sunday-9-dine/2024-08-11/
END:VEVENT
BEGIN:VEVENT
DTSTART;VALUE=DATE:20240818
DTEND;VALUE=DATE:20240819
DTSTAMP:20260424T075015
CREATED:20240524T142355Z
LAST-MODIFIED:20240610T191923Z
UID:10000018-1723939200-1724025599@www.empireranchgolf.com
SUMMARY:Sunday 9 & Dine
DESCRIPTION:
URL:https://www.empireranchgolf.com/event/sunday-9-dine/2024-08-18/
END:VEVENT
BEGIN:VEVENT
DTSTART;VALUE=DATE:20240825
DTEND;VALUE=DATE:20240826
DTSTAMP:20260424T075015
CREATED:20240524T142355Z
LAST-MODIFIED:20240610T191923Z
UID:10000019-1724544000-1724630399@www.empireranchgolf.com
SUMMARY:Sunday 9 & Dine
DESCRIPTION:
URL:https://www.empireranchgolf.com/event/sunday-9-dine/2024-08-25/
END:VEVENT
BEGIN:VEVENT
DTSTART;VALUE=DATE:20240901
DTEND;VALUE=DATE:20240902
DTSTAMP:20260424T075015
CREATED:20240524T142355Z
LAST-MODIFIED:20240610T191923Z
UID:10000020-1725148800-1725235199@www.empireranchgolf.com
SUMMARY:Sunday 9 & Dine
DESCRIPTION:
URL:https://www.empireranchgolf.com/event/sunday-9-dine/2024-09-01/
END:VEVENT
BEGIN:VEVENT
DTSTART;VALUE=DATE:20240908
DTEND;VALUE=DATE:20240909
DTSTAMP:20260424T075015
CREATED:20240524T142355Z
LAST-MODIFIED:20240610T191923Z
UID:10000021-1725753600-1725839999@www.empireranchgolf.com
SUMMARY:Sunday 9 & Dine
DESCRIPTION:
URL:https://www.empireranchgolf.com/event/sunday-9-dine/2024-09-08/
END:VEVENT
BEGIN:VEVENT
DTSTART;VALUE=DATE:20240915
DTEND;VALUE=DATE:20240916
DTSTAMP:20260424T075015
CREATED:20240524T142355Z
LAST-MODIFIED:20240610T191923Z
UID:10000022-1726358400-1726444799@www.empireranchgolf.com
SUMMARY:Sunday 9 & Dine
DESCRIPTION:
URL:https://www.empireranchgolf.com/event/sunday-9-dine/2024-09-15/
END:VEVENT
BEGIN:VEVENT
DTSTART;VALUE=DATE:20240922
DTEND;VALUE=DATE:20240923
DTSTAMP:20260424T075015
CREATED:20240524T142355Z
LAST-MODIFIED:20240610T191923Z
UID:10000023-1726963200-1727049599@www.empireranchgolf.com
SUMMARY:Sunday 9 & Dine
DESCRIPTION:
URL:https://www.empireranchgolf.com/event/sunday-9-dine/2024-09-22/
END:VEVENT
BEGIN:VEVENT
DTSTART;VALUE=DATE:20240929
DTEND;VALUE=DATE:20240930
DTSTAMP:20260424T075015
CREATED:20240524T142355Z
LAST-MODIFIED:20240610T191923Z
UID:10000024-1727568000-1727654399@www.empireranchgolf.com
SUMMARY:Sunday 9 & Dine
DESCRIPTION:
URL:https://www.empireranchgolf.com/event/sunday-9-dine/2024-09-29/
END:VEVENT
BEGIN:VEVENT
DTSTART;VALUE=DATE:20241019
DTEND;VALUE=DATE:20241021
DTSTAMP:20260424T075015
CREATED:20240524T142708Z
LAST-MODIFIED:20240524T142708Z
UID:10000034-1729296000-1729468799@www.empireranchgolf.com
SUMMARY:Glow Ball
DESCRIPTION:
URL:https://www.empireranchgolf.com/event/glow-ball/
END:VEVENT
END:VCALENDAR